BEGIN:VCALENDAR
VERSION:2.0
PRODID:spatie/icalendar-generator
DESCRIPTION:Events from Ravenwood Raptors Basketball
X-WR-CALDESC:Events from Ravenwood Raptors Basketball
REFRESH-INTERVAL;VALUE=DURATION:PT1440M
X-PUBLISHED-TTL:PT1440M
BEGIN:VTIMEZONE
TZID:America/Chicago
BEGIN:STANDARD
DTSTART:20251102T020000Z
TZOFFSETFROM:-0500
TZOFFSETTO:-0600
END:STANDARD
BEGIN:DAYLIGHT
DTSTART:20260308T020000Z
TZOFFSETFROM:-0600
TZOFFSETTO:-0500
END:DAYLIGHT
END:VTIMEZONE
BEGIN:VTIMEZONE
TZID:UTC
BEGIN:STANDARD
DTSTART:20250724T233555Z
TZOFFSETFROM:+0000
TZOFFSETTO:+0000
END:STANDARD
END:VTIMEZONE
BEGIN:VEVENT
UID:138-19
DTSTAMP:20260420T233555Z
SUMMARY:Jacob Fong's Birthday
LOCATION:
ORGANIZER;CN=Coach Hickey:MAILTO:paul@datadriven.design
DTSTART;TZID=America/Chicago;VALUE=DATE:20260406
DTEND;TZID=America/Chicago;VALUE=DATE:20260407
X-ALT-DESC;FMTTYPE=TEXT/HTML:
CATEGORIES:Birthdays
URL;VALUE=URI:https://ravenwoodbasketball.com/mc-events/jacob-fongs-birthda
 y/?mc_id=138
END:VEVENT
END:VCALENDAR